BEGIN:VCALENDAR
VERSION:2.0
PRODID:-//AudioTheme 2.3.8
BEGIN:VEVENT
UID:urn:uuid:e5410c82-93b5-4149-aeba-7f1e3a24ca01
URL:https://mitchmcvicker.com/concerts/gig-5376/
DTSTART;TZID=GMT:20250907T210000
SUMMARY:First Christian Church
LOCATION:First Christian Church\, 775 Highland Ave\, Hermiston\, OR
END:VEVENT
END:VCALENDAR
