BEGIN:VCALENDAR
VERSION:2.0
PRODID:-//AudioTheme 2.3.8
BEGIN:VEVENT
UID:urn:uuid:072be77b-ea18-4db7-8ea2-b32384c7bbbb
URL:https://mitchmcvicker.com/concerts/gig-5371/
DTSTART;TZID=GMT:20250817T230000
SUMMARY:Immanuel Lutheran Church
LOCATION:Immanuel Lutheran Church\, 2109 W. Ave. H\, Temple\, TX
END:VEVENT
END:VCALENDAR
