BEGIN:VCALENDAR
VERSION:2.0
PRODID:-//AudioTheme 2.3.8
BEGIN:VEVENT
UID:urn:uuid:e3e4a1c5-fd0a-4ddb-80b9-d47d04fe5411
URL:https://mitchmcvicker.com/concerts/gig-5368/
DTSTART;TZID=GMT:20251023T000000
SUMMARY:Opinion Brewing Company
LOCATION:Opinion Brewing Company\, 374 21st St\, Newport\, MN\, USA\, 55055
END:VEVENT
END:VCALENDAR
