BEGIN:VCALENDAR
VERSION:2.0
PRODID:-//AudioTheme 2.3.8
BEGIN:VEVENT
UID:urn:uuid:b7a4b708-2af8-40eb-a29f-dec1d38eefed
URL:https://mitchmcvicker.com/concerts/gig-5360/
DTSTART;TZID=GMT:20250907T010000
SUMMARY:Springhouse
LOCATION:Springhouse\, 5892 Hidden Springs Dr\, Boise\, ID
END:VEVENT
END:VCALENDAR
