BEGIN:VCALENDAR
VERSION:2.0
PRODID:-//AudioTheme 2.3.8
BEGIN:VEVENT
UID:urn:uuid:6bdcb653-f929-47c8-b312-8946152540af
URL:https://mitchmcvicker.com/concerts/gig-5358/
DTSTART;TZID=GMT:20250628T230000
SUMMARY:Harrisburg Brethren in Christ Church
LOCATION:Harrisburg Brethren in Christ Church\, 2217 Derry St (a benefit for Hope Served Ministries)\, Harrisburg\, PA
END:VEVENT
END:VCALENDAR
