BEGIN:VCALENDAR
VERSION:2.0
PRODID:-//AudioTheme 2.3.8
BEGIN:VEVENT
UID:urn:uuid:c796ba28-af3f-44fa-8970-b95ef21e6bec
URL:https://mitchmcvicker.com/concerts/gig-5354/
DTSTART;TZID=GMT:20250706T140000
SUMMARY:Church at the Meadows
LOCATION:Church at the Meadows\, 3430 Backmeyer Rd\, Richmond\, IN
END:VEVENT
END:VCALENDAR
