BEGIN:VCALENDAR
VERSION:2.0
PRODID:-//AudioTheme 2.3.8
BEGIN:VEVENT
UID:urn:uuid:45b3218f-f6bd-4d65-8363-10b969af0be8
URL:https://mitchmcvicker.com/concerts/gig-5350/
DTSTART;TZID=GMT:20250608T000000
SUMMARY:Lutheran Church of the Master
LOCATION:Lutheran Church of the Master\, 580 Kuhn Rd\, Carol Stream\, IL
END:VEVENT
END:VCALENDAR
