BEGIN:VCALENDAR
VERSION:2.0
PRODID:-//AudioTheme 2.3.8
BEGIN:VEVENT
UID:urn:uuid:8e6fb41e-6272-4360-a5d0-417b8e0ff11a
URL:https://mitchmcvicker.com/concerts/gig-5345/
DTSTART;TZID=GMT:20251005T140000
SUMMARY:Messiah Christian Church
LOCATION:Messiah Christian Church\, 2700 Post Rd\, Wells\, ME
END:VEVENT
END:VCALENDAR
