BEGIN:VCALENDAR
VERSION:2.0
PRODID:-//AudioTheme 2.3.8
BEGIN:VEVENT
UID:urn:uuid:4d3381e5-a022-41fd-873a-f5e21b4f574a
URL:https://mitchmcvicker.com/concerts/gig-5343/
DTSTART;TZID=GMT:20250427T000000
SUMMARY:First UMC
LOCATION:First UMC\, 800 Poplar St\, Atlantic\, IA
END:VEVENT
END:VCALENDAR
