BEGIN:VCALENDAR
VERSION:2.0
PRODID:-//AudioTheme 2.3.8
BEGIN:VEVENT
UID:urn:uuid:ac89fd01-640d-4d7b-a279-004bedfa8e4a
URL:https://mitchmcvicker.com/concerts/gig-5341/
DTSTART;TZID=GMT:20250927T000000
SUMMARY:Lifespring Community Church
LOCATION:Lifespring Community Church\, 1615 Thoele Rd\, St Peters\, MO
END:VEVENT
END:VCALENDAR
