BEGIN:VCALENDAR
VERSION:2.0
PRODID:-//AudioTheme 2.3.8
BEGIN:VEVENT
UID:urn:uuid:9da6f16b-388b-4fa0-a6e5-bb41d6cbc531
URL:https://mitchmcvicker.com/concerts/gig-5337/
DTSTART;TZID=GMT:20251021T230000
SUMMARY:Bethany Lutheran Church
LOCATION:Bethany Lutheran Church\, 24096 First Avenue\, Siren\, WI
END:VEVENT
END:VCALENDAR
