BEGIN:VCALENDAR
VERSION:2.0
PRODID:-//AudioTheme 2.3.8
BEGIN:VEVENT
UID:urn:uuid:3b5b2e82-c918-4041-bb3e-531974d9183b
URL:https://mitchmcvicker.com/concerts/gig-5335/
DTSTART;TZID=GMT:20251019T000000
SUMMARY:Heart of the City Music Factory
LOCATION:Heart of the City Music Factory\, 2665 4th Avenue\, Anoka\, MN
END:VEVENT
END:VCALENDAR
