BEGIN:VCALENDAR
VERSION:2.0
PRODID:-//AudioTheme 2.3.8
BEGIN:VEVENT
UID:urn:uuid:3999c8df-8ce9-4802-8e43-199875dd9471
URL:https://mitchmcvicker.com/concerts/gig-5333/
DTSTART;TZID=GMT:20251016T233000
SUMMARY:Trinity Lutheran Church
LOCATION:Trinity Lutheran Church\, 1410 Rogers St\, Stevens Point\, WI
END:VEVENT
END:VCALENDAR
