BEGIN:VCALENDAR
VERSION:2.0
PRODID:-//AudioTheme 2.3.8
BEGIN:VEVENT
UID:urn:uuid:48468fa9-ba79-4dda-a463-0694ba32a3b8
URL:https://mitchmcvicker.com/concerts/gig-5330/
DTSTART;TZID=GMT:20250924T220000
SUMMARY:Community Fellowship Church
LOCATION:Community Fellowship Church\, 1051 N Jackson Pike\, Union City\, IN
END:VEVENT
END:VCALENDAR
