BEGIN:VCALENDAR
VERSION:2.0
PRODID:-//AudioTheme 2.3.8
BEGIN:VEVENT
UID:urn:uuid:5991d5d2-33d7-4c6a-82af-644e7334ae97
URL:https://mitchmcvicker.com/concerts/gig-5328/
DTSTART;TZID=GMT:20251005T230000
SUMMARY:Bedford Road Baptist Church
LOCATION:Bedford Road Baptist Church\, 67 Bedford Rd\, Merrimack\, NH
END:VEVENT
END:VCALENDAR
