BEGIN:VCALENDAR
VERSION:2.0
PRODID:-//AudioTheme 2.3.8
BEGIN:VEVENT
UID:urn:uuid:88f8b519-bd01-45b1-863a-a863eb37fcd7
URL:https://mitchmcvicker.com/concerts/gig-5318/
DTSTART;TZID=GMT:20250930T230000
SUMMARY:Stonebridge Community Church
LOCATION:Stonebridge Community Church\, 105 E Greene St\, Piqua\, OH
END:VEVENT
END:VCALENDAR
