BEGIN:VCALENDAR
VERSION:2.0
PRODID:-//AudioTheme 2.3.8
BEGIN:VEVENT
UID:urn:uuid:ba832079-97d4-46cd-b7ec-b1f49fb41563
URL:https://mitchmcvicker.com/concerts/gig-5316/
DTSTART;TZID=GMT:20250928T220000
SUMMARY:Batesville Christian Church
LOCATION:Batesville Christian Church\, 1294 Columbus Avenue\, Batesville\, IN
END:VEVENT
END:VCALENDAR
