BEGIN:VCALENDAR
VERSION:2.0
PRODID:-//AudioTheme 2.3.8
BEGIN:VEVENT
UID:urn:uuid:c7f6b42d-a0f4-473c-928f-70ffec03af4c
URL:https://mitchmcvicker.com/concerts/gig-5314/
DTSTART;TZID=GMT:20250915T000000
SUMMARY:Peace Presbyterian Church
LOCATION:Peace Presbyterian Church\, 333 S 204th St\, Elkhorn\, NE
END:VEVENT
END:VCALENDAR
