BEGIN:VCALENDAR
VERSION:2.0
PRODID:-//AudioTheme 2.3.8
BEGIN:VEVENT
UID:urn:uuid:bc64757d-b63a-49a4-b57d-da6d042bee7d
URL:https://mitchmcvicker.com/concerts/gig-5312/
DTSTART;TZID=GMT:20250912T010000
SUMMARY:Four Corners Home for Children
LOCATION:Four Corners Home for Children\, 2103 Main st\, Farmington\, NM
END:VEVENT
END:VCALENDAR
