BEGIN:VCALENDAR
VERSION:2.0
PRODID:-//AudioTheme 2.3.8
BEGIN:VEVENT
UID:urn:uuid:75a589a7-151c-4387-8496-403babcba350
URL:https://mitchmcvicker.com/concerts/gig-5310/
DTSTART;TZID=GMT:20250911T010000
SUMMARY:Indigenous Bible College
LOCATION:Indigenous Bible College\, 2227 E Cedar Avenue\, Flagstaff\, AZ
END:VEVENT
END:VCALENDAR
