BEGIN:VCALENDAR
VERSION:2.0
PRODID:-//AudioTheme 2.3.8
BEGIN:VEVENT
UID:urn:uuid:1abdc809-930e-4d0a-933e-a58291d2a426
URL:https://mitchmcvicker.com/concerts/gig-531/
DTSTART;TZID=GMT:20181202T010000
SUMMARY:Trinity Episcopal Church
LOCATION:Trinity Episcopal Church\, 317 Franklin Street\, Clarksville\, TN
END:VEVENT
END:VCALENDAR
