BEGIN:VCALENDAR
VERSION:2.0
PRODID:-//AudioTheme 2.3.8
BEGIN:VEVENT
UID:urn:uuid:0edaf548-3572-4bd6-96e9-f91581697276
URL:https://mitchmcvicker.com/concerts/gig-5306/
DTSTART;TZID=GMT:20250825T000000
SUMMARY:Price Chapel
LOCATION:Price Chapel\, 611 Price River Dr\, Price\, UT
END:VEVENT
END:VCALENDAR
