BEGIN:VCALENDAR
VERSION:2.0
PRODID:-//AudioTheme 2.3.8
BEGIN:VEVENT
UID:urn:uuid:6f203c8c-b3e1-4be1-b291-c1665b2a4fe6
URL:https://mitchmcvicker.com/concerts/gig-53/
DTSTART;TZID=GMT:20170527T000000
SUMMARY:Woodlawn UMC
LOCATION:Woodlawn UMC\, 431 S Woodlawn\, Derby\, KS\, USA\, 67030
END:VEVENT
END:VCALENDAR
