BEGIN:VCALENDAR
VERSION:2.0
PRODID:-//AudioTheme 2.3.8
BEGIN:VEVENT
UID:urn:uuid:aa519413-7a5f-415d-bc20-0d3e0e802ee9
URL:https://mitchmcvicker.com/concerts/gig-5299/
DTSTART;TZID=GMT:20250824T010000
SUMMARY:Connection Church
LOCATION:Connection Church\, 2938 North Avenue\, Grand Junction\, CO
END:VEVENT
END:VCALENDAR
