BEGIN:VCALENDAR
VERSION:2.0
PRODID:-//AudioTheme 2.3.8
BEGIN:VEVENT
UID:urn:uuid:91894004-3e29-4201-a932-dc95f3c912b9
URL:https://mitchmcvicker.com/concerts/gig-5295/
DTSTART;TZID=GMT:20250820T230000
SUMMARY:Levant Community Church
LOCATION:Levant Community Church\, 205 First St\, Levant\, KS
END:VEVENT
END:VCALENDAR
