BEGIN:VCALENDAR
VERSION:2.0
PRODID:-//AudioTheme 2.3.8
BEGIN:VEVENT
UID:urn:uuid:36f07cd6-596c-4249-b81c-695cc9a9acf7
URL:https://mitchmcvicker.com/concerts/gig-5293/
DTSTART;TZID=GMT:20250815T000000
SUMMARY:House Concert
LOCATION:House Concert\, Wichita\, KS
END:VEVENT
END:VCALENDAR
