BEGIN:VCALENDAR
VERSION:2.0
PRODID:-//AudioTheme 2.3.8
BEGIN:VEVENT
UID:urn:uuid:eeeb38a1-ae6a-4f9c-91ff-49e46d8eaeaa
URL:https://mitchmcvicker.com/concerts/gig-5291/
DTSTART;TZID=GMT:20250819T000000
SUMMARY:Wylie Christian Church
LOCATION:Wylie Christian Church\, 6250 Buffalo Gap Rd\, Abilene\, TX
END:VEVENT
END:VCALENDAR
