BEGIN:VCALENDAR
VERSION:2.0
PRODID:-//AudioTheme 2.3.8
BEGIN:VEVENT
UID:urn:uuid:ca25297b-fb3a-4d24-8594-0ee066e1868c
URL:https://mitchmcvicker.com/concerts/gig-5289/
DTSTART;TZID=GMT:20250816T000000
SUMMARY:Brother's Keeper Church
LOCATION:Brother's Keeper Church\, 280 Homer Cemetery Rd\, Lufkin\, TX
END:VEVENT
END:VCALENDAR
