BEGIN:VCALENDAR
VERSION:2.0
PRODID:-//AudioTheme 2.3.8
BEGIN:VEVENT
UID:urn:uuid:0eec1ed6-aa80-4ae5-b16d-dcf57f9bd86b
URL:https://mitchmcvicker.com/concerts/gig-5287/
DTSTART;TZID=GMT:20250813T000000
SUMMARY:Hope Community Church
LOCATION:Hope Community Church\, 1411 Roseport Rd\, Elwood\, KS
END:VEVENT
END:VCALENDAR
