BEGIN:VCALENDAR
VERSION:2.0
PRODID:-//AudioTheme 2.3.8
BEGIN:VEVENT
UID:urn:uuid:bd2e3c4c-4fa9-480c-8c9e-088c22135cdf
URL:https://mitchmcvicker.com/concerts/gig-5285/
DTSTART;TZID=GMT:20250713T220000
SUMMARY:Our Coffee Shop
LOCATION:Our Coffee Shop\, 3508 Yadkinville Rd\, Winston-Salem\, NC
END:VEVENT
END:VCALENDAR
