BEGIN:VCALENDAR
VERSION:2.0
PRODID:-//AudioTheme 2.3.8
BEGIN:VEVENT
UID:urn:uuid:3aeaf5ed-1851-4f4e-9430-2127fe6d4cf7
URL:https://mitchmcvicker.com/concerts/gig-5283/
DTSTART;TZID=GMT:20250712T223000
SUMMARY:Murphy Porch Concert
LOCATION:Murphy Porch Concert\, 2360 Military Rd\, Amelia Court House\, VA
END:VEVENT
END:VCALENDAR
