BEGIN:VCALENDAR
VERSION:2.0
PRODID:-//AudioTheme 2.3.8
BEGIN:VEVENT
UID:urn:uuid:664b2409-0c80-4917-b61e-66658b2aead9
URL:https://mitchmcvicker.com/concerts/gig-5281/
DTSTART;TZID=GMT:20250629T220000
SUMMARY:First Baptist Church
LOCATION:First Baptist Church\, 735 Park St\, Charlottesville\, VA
END:VEVENT
END:VCALENDAR
