BEGIN:VCALENDAR
VERSION:2.0
PRODID:-//AudioTheme 2.3.8
BEGIN:VEVENT
UID:urn:uuid:89f5b48e-2e53-4f26-9bba-d9469428d98a
URL:https://mitchmcvicker.com/concerts/gig-5279/
DTSTART;TZID=GMT:20250608T230000
SUMMARY:Rock Church
LOCATION:Rock Church\, 1081 Upper Spring Bay Rd\, E. Peoria\, IL
END:VEVENT
END:VCALENDAR
