BEGIN:VCALENDAR
VERSION:2.0
PRODID:-//AudioTheme 2.3.8
BEGIN:VEVENT
UID:urn:uuid:9b97fd7b-448e-4659-a115-b30d33f3d280
URL:https://mitchmcvicker.com/concerts/gig-5277/
DTSTART;TZID=GMT:20250427T230000
SUMMARY:Sanctuary Church
LOCATION:Sanctuary Church\, 912 18th Avenue SW\, Cedar Rapids\, IA
END:VEVENT
END:VCALENDAR
