BEGIN:VCALENDAR
VERSION:2.0
PRODID:-//AudioTheme 2.3.8
BEGIN:VEVENT
UID:urn:uuid:27695c61-df7f-44af-b5b1-04277967794e
URL:https://mitchmcvicker.com/concerts/gig-5271/
DTSTART;TZID=GMT:20250507T000000
SUMMARY:Earlham Friends Church
LOCATION:Earlham Friends Church\, 115 NE 2nd St\, Earlham\, IA
END:VEVENT
END:VCALENDAR
