BEGIN:VCALENDAR
VERSION:2.0
PRODID:-//AudioTheme 2.3.8
BEGIN:VEVENT
UID:urn:uuid:dcc61b37-cf01-4636-8cf4-eebea6bcb19e
URL:https://mitchmcvicker.com/concerts/gig-527/
DTSTART;TZID=GMT:20181129T000000
SUMMARY:First Christian Church
LOCATION:First Christian Church\, 1613 S. Broadway Ave.\, Hinton\, OK
END:VEVENT
END:VCALENDAR
