BEGIN:VCALENDAR
VERSION:2.0
PRODID:-//AudioTheme 2.3.8
BEGIN:VEVENT
UID:urn:uuid:73bbdf59-10ce-4cac-85bc-82e40efd970e
URL:https://mitchmcvicker.com/concerts/gig-5269/
DTSTART;TZID=GMT:20250127T010000
SUMMARY:First UMC
LOCATION:First UMC\, 800 Poplar St\, Atlantic\, IA
END:VEVENT
END:VCALENDAR
