BEGIN:VCALENDAR
VERSION:2.0
PRODID:-//AudioTheme 2.3.8
BEGIN:VEVENT
UID:urn:uuid:67316dc2-723a-4a74-afa9-6b80d4956a83
URL:https://mitchmcvicker.com/concerts/gig-5263/
DTSTART;TZID=GMT:20250405T230000
SUMMARY:Whitewater Christian Church
LOCATION:Whitewater Christian Church\, 7918 State Road 227 N\, Whitewater\, IN
END:VEVENT
END:VCALENDAR
