BEGIN:VCALENDAR
VERSION:2.0
PRODID:-//AudioTheme 2.3.8
BEGIN:VEVENT
UID:urn:uuid:87cea4be-ec97-48d6-9a9a-7435784b2977
URL:https://mitchmcvicker.com/concerts/gig-5261/
DTSTART;TZID=GMT:20250404T230000
SUMMARY:Wallace Street Evangelical Church
LOCATION:Wallace Street Evangelical Church\, 4805 E 10th St\, Indianapolis\, IN
END:VEVENT
END:VCALENDAR
