BEGIN:VCALENDAR
VERSION:2.0
PRODID:-//AudioTheme 2.3.8
BEGIN:VEVENT
UID:urn:uuid:2112b194-adb3-478a-9703-724495a7f24e
URL:https://mitchmcvicker.com/concerts/gig-5259/
DTSTART;TZID=GMT:20250404T000000
SUMMARY:Hope Grows Neighborhood Center
LOCATION:Hope Grows Neighborhood Center\, 715 N Adams St\, Lincoln\, IL
END:VEVENT
END:VCALENDAR
