BEGIN:VCALENDAR
VERSION:2.0
PRODID:-//AudioTheme 2.3.8
BEGIN:VEVENT
UID:urn:uuid:8f29d7f8-9261-4ad0-adc5-bb2490401f00
URL:https://mitchmcvicker.com/concerts/gig-5257/
DTSTART;TZID=GMT:20250403T000000
SUMMARY:Creve Coeur Christian Church
LOCATION:Creve Coeur Christian Church\, 101 S Thorncrest Avenue\, Creve Coeur\, IL
END:VEVENT
END:VCALENDAR
