BEGIN:VCALENDAR
VERSION:2.0
PRODID:-//AudioTheme 2.3.8
BEGIN:VEVENT
UID:urn:uuid:dbb22ca4-0144-4263-92c3-b4c325869b06
URL:https://mitchmcvicker.com/concerts/gig-5254/
DTSTART;TZID=GMT:20250323T143000
SUMMARY:Jerusalem Christian Church
LOCATION:Jerusalem Christian Church\, 560 Donation Rd\, Greenville\, PA
END:VEVENT
END:VCALENDAR
