BEGIN:VCALENDAR
VERSION:2.0
PRODID:-//AudioTheme 2.3.8
BEGIN:VEVENT
UID:urn:uuid:17e1440e-3a6c-4446-bac8-8e26fc493851
URL:https://mitchmcvicker.com/concerts/gig-5252/
DTSTART;TZID=GMT:20250322T230000
SUMMARY:Trinity Church
LOCATION:Trinity Church\, 14040 Bagley Rd\, Middleburg Heights\, OH
END:VEVENT
END:VCALENDAR
