BEGIN:VCALENDAR
VERSION:2.0
PRODID:-//AudioTheme 2.3.8
BEGIN:VEVENT
UID:urn:uuid:7476fa75-949c-48c4-bb00-975b0bddab9b
URL:https://mitchmcvicker.com/concerts/gig-525/
DTSTART;TZID=GMT:20181109T010000
SUMMARY:Countryside Christian Church
LOCATION:Countryside Christian Church\, 3203 8th Avenue\, Kearney\, NE
END:VEVENT
END:VCALENDAR
