BEGIN:VCALENDAR
VERSION:2.0
PRODID:-//AudioTheme 2.3.8
BEGIN:VEVENT
UID:urn:uuid:150b87f1-6b1f-4245-9715-05aa2b5c2ac0
URL:https://mitchmcvicker.com/concerts/gig-5248/
DTSTART;TZID=GMT:20250320T230000
SUMMARY:Riverside Christian Church
LOCATION:Riverside Christian Church\, 15413 SR 49\, Antwerp\, OH
END:VEVENT
END:VCALENDAR
