BEGIN:VCALENDAR
VERSION:2.0
PRODID:-//AudioTheme 2.3.8
BEGIN:VEVENT
UID:urn:uuid:e62cfeb8-569f-4126-bb93-a149a832b3f2
URL:https://mitchmcvicker.com/concerts/gig-5246/
DTSTART;TZID=GMT:20250319T220000
SUMMARY:Lifepoint Church of Etown
LOCATION:Lifepoint Church of Etown\, 401 W Poplar St\, Elizabethtown\, KY
END:VEVENT
END:VCALENDAR
