BEGIN:VCALENDAR
VERSION:2.0
PRODID:-//AudioTheme 2.3.8
BEGIN:VEVENT
UID:urn:uuid:9af35360-7973-48e1-8bb1-06da9d077cce
URL:https://mitchmcvicker.com/concerts/gig-5244/
DTSTART;TZID=GMT:20250309T230000
SUMMARY:Magee Manor
LOCATION:Magee Manor\, 2913 11th Avenue\, Columbus\, GA
END:VEVENT
END:VCALENDAR
