BEGIN:VCALENDAR
VERSION:2.0
PRODID:-//AudioTheme 2.3.8
BEGIN:VEVENT
UID:urn:uuid:5d15fe82-8bb1-4b31-b7ce-ac47ae7d2485
URL:https://mitchmcvicker.com/concerts/gig-5242/
DTSTART;TZID=GMT:20250308T233000
SUMMARY:St John Lutheran Church
LOCATION:St John Lutheran Church\, 1915 SE Lake Weir Dr\, Ocala\, FL
END:VEVENT
END:VCALENDAR
