BEGIN:VCALENDAR
VERSION:2.0
PRODID:-//AudioTheme 2.3.8
BEGIN:VEVENT
UID:urn:uuid:1ad9e76e-47fd-4331-8e11-e5e695696668
URL:https://mitchmcvicker.com/concerts/gig-5240/
DTSTART;TZID=GMT:20250224T000000
SUMMARY:Formation Retreat: Lovingston Winery
LOCATION:Formation Retreat: Lovingston Winery\, 885 Freshwater Cove Ln\, Lovingston\, VA
END:VEVENT
END:VCALENDAR
