BEGIN:VCALENDAR
VERSION:2.0
PRODID:-//AudioTheme 2.3.8
BEGIN:VEVENT
UID:urn:uuid:705234d3-41d6-4e99-914d-26098e120eda
URL:https://mitchmcvicker.com/concerts/gig-5236/
DTSTART;TZID=GMT:20250302T013000
SUMMARY:Kava Social Club
LOCATION:Kava Social Club\, 540 13th St W\, Bradenton\, FL
END:VEVENT
END:VCALENDAR
